BEGIN:VCALENDAR
PRODID:-//Det Danske Spejderkorps//NONSGML Gruppeweb//EN
VERSION:2.0
CALSCALE:GREGORIAN
X-PUBLISHED-TTL:PT1H
X-WR-CALNAME:Juniorer i Hejls Gruppe
METHOD:PUBLISH
BEGIN:VEVENT
UID:gruppeweb.dk:5314:event:172
DTSTAMP:20260425T122956Z
LAST-MODIFIED:20260214T013700Z
SUMMARY:Divisionsturnering junior
DESCRIPTION:Eder Junior spejder\nDanmark har altid været præget af stærk
 e (og nogle knap så stærke)  \nkonger\nop igennem tiden\, lige fra Gorm 
 den gamle i år 936\, til Harald Blåtand\,  \nKnud den\nhellige\, Valdema
 r sejr\, Christian den 4\, Frederik den 7.\nHeldigvis har disse konger væ
 ret godt gift\, med nogle markante dronninger og\nmåske har de også haft
  en enkelt elskerinde eller 2.\nVi nævner nogle dronninger i flæng.\nDro
 nning Thyra Danebod\nDronning Dagmar af Bøhmen\nDronning Margrethe d. 1\n
 Dronning Margrethe d. 2.\nVi skal på en rejse fra den første Dronning af
  Danmark\, Thyra Danebod og op\nigennem tiden\, hvor vi kommer til at mød
 e flere danske dronninger og slutter  \naf\nsammen med Mary.\nSå fat dit 
 ordensbånd\, manchetknapper\, de pudsede støvler og begiv dig af\nsted m
 od Danmarks ældste købstad.\nMåske du lige skulle læse op på historie
 n om de danske dronninger\, så vil  \nI være\nbedre forberedt til weeken
 den.\nHusk også at saml dit grej\, både før og under turneringen. Find 
 dit gode  \nhumør\nog gør dig klar til en fed weekend med opgaver\, konk
 urrencer og hygge med\nandre spejdere.\n\nForopgave:\nPatruljen skal sørg
 e at hver spejder bære et ordensbånd\, sammen med\nuniformen\, hele week
 enden.\nOrdensbåndet skal være i farvenuancen grøn og skal kendetegne p
 atruljen.\nI skal samle en patrulje på mindst 3 og max 7 mand for at kunn
 e deltage.  \nHusk\nat læse folderen igennem 2 gange\, så glemmer I ikke
  noget. Ellers spørg  \njeres\nleder.\nVi ses\nMichael og Esben\n\n\nStar
 t:           Fredag den 23. maj kl 18.30\n           
          Ved\n                    Centrum syd 
 parkering Stampemøllevej  \n1\, 6760 Ribe\n\nSlut:            
  Søndag den 25. maj kl. ca. 10.00 i Brede Å  \nDal\n\nMedbring:    
  Madpakke og drikkedunk med indhold til fredag aften.\n         
            Oppakning til weekendtur med  \nudendørs overnatnin
 g.\n\n
URL:https://spejderihejls.dk/begivenhed/divisionsturnering-junior-0
DTSTART:20250523T163000Z
DTEND:20250525T080000Z
LOCATION:Brede Å Dal Søgårdvej 1\, 6240 Løgumkloster
END:VEVENT
BEGIN:VEVENT
UID:gruppeweb.dk:5314:event:169
DTSTAMP:20260425T122956Z
LAST-MODIFIED:20250426T053047Z
SUMMARY:Sommerlejr på Bornholm for junior- og tropsspejdere
DESCRIPTION:Sommerlejren for junior- og trop-spejderne går i år til solsk
 insøen  \nBornholm\, hvor vi skal stort set hele øen rundt og opleve den
  skønne\,  \nsærprægende natur\, se de store seværdigheder og i det he
 le taget opleve  \nstemningen i denne helt specielle del af Danmark.\n\nVi
  starter med at bevæge os op på den nordlige del af øen\, hvor blandt  
 \nandet Hammershus skal udforskes ved aftentide\, mens Opalsøen og  \ngra
 nitbruddet kan fortælle os lidt om Bornholms undergrund og ressourcer.  \
 nEfter et par dage drager vi østover\, forbi kæmpe-isvaflerne i Gudhjem\
 , de  \nmange røgerier og ind til Ekkodalen og Rokkestenen.\n\nDe sidste 
 dage bruges på Sydøen\, hvor Dueoddes fine sandstrande og det\,  \nforh
 åbentligt\, gode vejr indbyder til en tur i bølgen blå. \n\nOvernatnin
 gerne kommer til at foregå på forskellige shelter- og  \nteltpladser\, o
 g vi kommer til både at vandre og tage bussen fra sted til  \nsted. Din o
 ppakning\, - ja\, den skal du selv kunne bære\, så tænk over\, hvad  \n
 der er nødvendigt at have med i rygsækken. Der skal også være plads ti
 l  \nlidt af fællesbagagen i rygsækken\, men det snakker vi om til  \nsp
 ejdermøderne inden turen.\n\nVi mødes på Kolding banegård søndag den 
 27. juli klokken 07.00\, hvorefter  \nvi tager toget til Ystad. Herfra sej
 ler vi med færgen til Rønne\, Bornholm.  \nSommerlejren slutter igen på
  Kolding banegård lørdag den 2. august\, når  \nvi er kommet af toget o
 g har sluttet af. Forventet sluttidspunkt er klokken  \n18.15. \n\nPlanl
 ægningen er i fuld gang\, og der vil komme mere information ud til de  \n
 tilmeldte juniorer og tropsspejdere\, når vi kommer tættere på årets  
 \nstørste spejderoplevelse.\n\n \n\n\n
URL:https://spejderihejls.dk/begivenhed/sommerlejr-paa-bornholm-junior-og-t
 ropsspejdere
DTSTART:20250727T050000Z
DTEND:20250802T161500Z
LOCATION:Hejls Trop\, Engvej 8\, 6094 Hejls
END:VEVENT
BEGIN:VEVENT
UID:gruppeweb.dk:5314:event:186
DTSTAMP:20260425T122956Z
LAST-MODIFIED:20251105T192921Z
SUMMARY:Skumringsløb
DESCRIPTION:Det er helt galt med Hejlsminde Nor. Det fredede naturområde e
 r langsomt ved  \nat dø – forgiftet af hemmelige udslip og skumle natli
 ge aktiviteter.  \nNaturvejlederen har opfanget mystiske signaler i mørke
 t\, men han kan ikke  \nstå alene med opklaringsarbejdet. Spejderne må u
 d på en hemmelig mission  \nfor at finde beviserne\, inden forurenings-sk
 urkene opdager dem. Lyset i  \nnatten kan være et tegn… eller en fælde
 .\n\nKom og vær med til årets skumringsløb for mini-\, junior- og trops
 pejdere.  \nI skal i blandede patruljer være med til at redde Noret. Der 
 er brug for  \njer\, så skynd jer at blive tilmeldt!\n\nHusk at medbringe
  service (Dyb tallerken\, ske og kop)\, reflekser og varm  \npåklædning.
 \n\n\n
URL:https://spejderihejls.dk/begivenhed/skumringsloeb
DTSTART:20251121T170000Z
DTEND:20251121T193000Z
LOCATION:Hejls Trop\, Engvej 8\, 6094 Hejls
END:VEVENT
BEGIN:VEVENT
UID:gruppeweb.dk:5314:event:199
DTSTAMP:20260425T122956Z
LAST-MODIFIED:20260412T192446Z
SUMMARY:Junior-divi
DESCRIPTION:Kære\nJunior\n\n\n\n Der er brug for din hjælp.  For ikke s
 å mange dage siden\, rejste  \nSpejderbamse Keld afsted i sit luftskib. H
 an drog ud for at finde BP´s  \nmagiske spejderkop\, der kan holde kakaoe
 n varm i 3 timer og 27 min.\n\n\n\n Desværre\nhar han ikke sendt de forv
 entede røgsignaler hjem\, og derfor forventer vi  \nikke\nhan har haft mu
 lighed for at lande sit luftskib - noget må være sket.\n\n\n\n Nogle\ns
 pejdere fra Tiset Arnum har heldigvis opfanget denne besked:\n\n\n\n ....
 \n.--- .-.- .-.. .--. / -... .- -- ... . -... .- -. -.. .. - - . .-. -. . 
 /  \n....\n.- .-. / ..-. .- -. --. . - / -- .. --. .-.-.- / .... .- .-. / 
 -... .-. ..-  \n--.\n/ ..-. --- .-. / .... .--- .-.- .-.. .--. .-.-.- / ..
 .- .-.- .-. / -... . .-.  \n.\n-.. - .-.-.-\n\n\n\n Vi\nved godt\, at en 
 mission som denne er farlig\, så derfor skal der være nogle\nsærlige So
 m spejdere skal vi derfor mødes. Hver patrulje medbringer en  \nvelegnet\
 nbamse\, som I tror på\, kan trænes til denne specielle mission\, hvor e
 n  \nuddannet\nspejder-bamse-patrulje drager ud for at finde og befri Keld
 .\n\n\n\nI skal samle en patrulje på mindst 3 og max 7 mand for at kunne 
 deltage.  \nHusk at læse folderen igennem 2 gange\, så glemmer I ikke no
 get. Ellers  \nspørg jeres leder.\n\n\n\n Vi\nses\n\n\n\n*Esben og Micha
 el*\n\n\nMedbring:      *Madpakke og\ndrikkedunk med indhold til fred
 ag aften. Oppakning til weekendtur med  \nudendørs\novernatning og rygsæ
 kken på ryggen en hel del tid. *\n\n\n\n
URL:https://spejderihejls.dk/begivenhed/junior-divi
DTSTART:20260605T160000Z
DTEND:20260607T083000Z
LOCATION:Tiset-Arnum spejderhytte\, Kongevej 252\, 6510 Gram
END:VEVENT
END:VCALENDAR
